BEGIN:VCALENDAR
VERSION:2.0
PRODID:-//Elton Baptist Church - ECPv6.3.7//NONSGML v1.0//EN
CALSCALE:GREGORIAN
METHOD:PUBLISH
X-ORIGINAL-URL:https://eltonbaptistchurch.com
X-WR-CALDESC:Events for Elton Baptist Church
REFRESH-INTERVAL;VALUE=DURATION:PT1H
X-Robots-Tag:noindex
X-PUBLISHED-TTL:PT1H
BEGIN:VTIMEZONE
TZID:UTC
BEGIN:STANDARD
TZOFFSETFROM:+0000
TZOFFSETTO:+0000
TZNAME:UTC
DTSTART:20220101T000000
END:STANDARD
END:VTIMEZONE
BEGIN:VEVENT
DTSTART;TZID=UTC:20221208T104500
DTEND;TZID=UTC:20221208T120000
DTSTAMP:20260421T092000
CREATED:20221121T004641Z
LAST-MODIFIED:20221121T004641Z
UID:436-1670496300-1670500800@eltonbaptistchurch.com
SUMMARY:Bible Study Resumes
DESCRIPTION:
URL:https://eltonbaptistchurch.com/event/bible-study-resumes-2
LOCATION:Elton Baptist Church Building\, 10331 Marble Springs Rd.\, Delevan\, United States
ATTACH;FMTTYPE=image/gif:https://eltonbaptistchurch.com/wp-content/uploads/2022/09/Bible.gif
END:VEVENT
END:VCALENDAR