BEGIN:VCALENDAR
VERSION:2.0
PRODID:-//Elton Baptist Church - ECPv6.3.7//NONSGML v1.0//EN
CALSCALE:GREGORIAN
METHOD:PUBLISH
X-ORIGINAL-URL:https://eltonbaptistchurch.com
X-WR-CALDESC:Events for Elton Baptist Church
REFRESH-INTERVAL;VALUE=DURATION:PT1H
X-Robots-Tag:noindex
X-PUBLISHED-TTL:PT1H
BEGIN:VTIMEZONE
TZID:UTC
BEGIN:STANDARD
TZOFFSETFROM:+0000
TZOFFSETTO:+0000
TZNAME:UTC
DTSTART:20220101T000000
END:STANDARD
END:VTIMEZONE
BEGIN:VEVENT
DTSTART;TZID=UTC:20221213T091500
DTEND;TZID=UTC:20221213T110000
DTSTAMP:20260423T111640
CREATED:20221212T103552Z
LAST-MODIFIED:20221212T103552Z
UID:470-1670922900-1670929200@eltonbaptistchurch.com
SUMMARY:Ladies Missionary Meeting
DESCRIPTION:We will be packing bags for six shut-in’s.
URL:https://eltonbaptistchurch.com/event/ladies-missionary-meeting-2
LOCATION:Elton Baptist Church Building\, 10331 Marble Springs Rd.\, Delevan\, United States
END:VEVENT
BEGIN:VEVENT
DTSTART;TZID=UTC:20221213T190000
DTEND;TZID=UTC:20221213T203000
DTSTAMP:20260423T111640
CREATED:20221128T144912Z
LAST-MODIFIED:20221205T095548Z
UID:445-1670958000-1670963400@eltonbaptistchurch.com
SUMMARY:Deacons Meeting
DESCRIPTION:
URL:https://eltonbaptistchurch.com/event/deacons-meeting
LOCATION:Lee’s House
ATTACH;FMTTYPE=image/jpeg:https://eltonbaptistchurch.com/wp-content/uploads/2022/08/Meeting.jpg
END:VEVENT
END:VCALENDAR